BEGIN:VCALENDAR
VERSION:2.0
PRODID:-//MIT Kreisverband Göppingen - ECPv6.15.20//NONSGML v1.0//EN
CALSCALE:GREGORIAN
METHOD:PUBLISH
X-WR-CALNAME:MIT Kreisverband Göppingen
X-ORIGINAL-URL:https://mit-gp.de
X-WR-CALDESC:Veranstaltungen für MIT Kreisverband Göppingen
REFRESH-INTERVAL;VALUE=DURATION:PT1H
X-Robots-Tag:noindex
X-PUBLISHED-TTL:PT1H
BEGIN:VTIMEZONE
TZID:UTC
BEGIN:STANDARD
TZOFFSETFROM:+0000
TZOFFSETTO:+0000
TZNAME:UTC
DTSTART:20240101T000000
END:STANDARD
END:VTIMEZONE
BEGIN:VEVENT
DTSTART;TZID=UTC:20250115T180000
DTEND;TZID=UTC:20250115T220000
DTSTAMP:20260424T113245
CREATED:20241202T134305Z
LAST-MODIFIED:20241202T134946Z
UID:1084-1736964000-1736978400@mit-gp.de
SUMMARY:MIT-Kommunal Stadt Eislingen
DESCRIPTION:MIT-Kommunal\nStadt Eislingen läd ein zum\nAustausch mit Bürgermeister Heininger
URL:https://mit-gp.de/event/mit-kommunal-stadt-eislingen/
LOCATION:Rathaus Eislingen\, Schlossplatz 1\, Eislingen\, 73054\, Germany
CATEGORIES:Veranstaltungen
ATTACH;FMTTYPE=image/png:https://mit-gp.de/wp-content/uploads/2024/11/LOGO-Strasse-MIT.png
ORGANIZER;CN="Mittelstand und  Wirtschaftsunion Kreis G%C3%B6ppingen":MAILTO:info@mit-gp.de
END:VEVENT
END:VCALENDAR