BEGIN:VCALENDAR
VERSION:2.0
PRODID:-//MIT Kreisverband Göppingen - ECPv6.15.20//NONSGML v1.0//EN
CALSCALE:GREGORIAN
METHOD:PUBLISH
X-WR-CALNAME:MIT Kreisverband Göppingen
X-ORIGINAL-URL:https://mit-gp.de
X-WR-CALDESC:Veranstaltungen für MIT Kreisverband Göppingen
REFRESH-INTERVAL;VALUE=DURATION:PT1H
X-Robots-Tag:noindex
X-PUBLISHED-TTL:PT1H
BEGIN:VTIMEZONE
TZID:UTC
BEGIN:STANDARD
TZOFFSETFROM:+0000
TZOFFSETTO:+0000
TZNAME:UTC
DTSTART:20240101T000000
END:STANDARD
END:VTIMEZONE
BEGIN:VEVENT
DTSTART;TZID=UTC:20250123T190000
DTEND;TZID=UTC:20250123T223000
DTSTAMP:20260421T213924
CREATED:20250119T105602Z
LAST-MODIFIED:20250119T110754Z
UID:1260-1737658800-1737671400@mit-gp.de
SUMMARY:Prof. Dr. Andrea Wechsler am 23.01.2025 in Eislingen/Fils
DESCRIPTION:Prof. Dr. Andrea Wechsler MEP kommt nach \nEislingen/Fils in Restaurant Adler 19Uhr\nhttps://andrea-wechsler.de/
URL:https://mit-gp.de/event/prof-dr-andrea-wechsler-kommt-nach-eislingen/
LOCATION:Adler Eislingen\, Hauptstrasse 33\, Eislingen\, 73054\, Germany
CATEGORIES:Veranstaltungen
ATTACH;FMTTYPE=image/jpeg:https://mit-gp.de/wp-content/uploads/2025/01/KachelDrWechsler.jpg
ORGANIZER;CN="Mittelstand und  Wirtschaftsunion Kreis G%C3%B6ppingen":MAILTO:info@mit-gp.de
END:VEVENT
END:VCALENDAR